BEGIN:VCALENDAR
VERSION:2.0
PRODID:-//gruender-mv.de//EN
BEGIN:VEVENT
UID:69e4d88c91369@gruender-mv.de
DTSTAMP:20260419T132844Z
DTSTART:20260305T153000
DTEND:20260305T170000
SUMMARY:Workshop: Berufliche Neuorientierung für Frauen am 05.03.2026
DESCRIPTION:
URL:https://gruender-mv.de/events/workshop-berufliche-neuorientierung-fuer-frauen-am-05-03-2026/
END:VEVENT
END:VCALENDAR
