BEGIN:VCALENDAR
VERSION:2.0
PRODID:-//gruender-mv.de//EN
BEGIN:VEVENT
UID:69e619dd7927b@gruender-mv.de
DTSTAMP:20260420T121941Z
DTSTART:20260319T153000
DTEND:20260319T170000
SUMMARY:Workshop: Gründen für Frauen am 19.03.2026
DESCRIPTION:
URL:https://gruender-mv.de/events/workshop-gruenden-fuer-frauen-am-19-03-2026/
END:VEVENT
END:VCALENDAR
