BEGIN:VCALENDAR
VERSION:2.0
PRODID:-//gruender-mv.de//EN
BEGIN:VEVENT
UID:69e4d89559f89@gruender-mv.de
DTSTAMP:20260419T132853Z
DTSTART:20260303T090000
DTEND:20260303T150000
SUMMARY:IHK-Beratungssprechtag Unternehmensfinanzierung (online)
DESCRIPTION:
URL:https://gruender-mv.de/events/ihk-beratungssprechtag-unternehmensfinanzierung-online-16/
END:VEVENT
END:VCALENDAR
