BEGIN:VCALENDAR
VERSION:2.0
PRODID:-//gruender-mv.de//EN
BEGIN:VEVENT
UID:69e5079760e1c@gruender-mv.de
DTSTAMP:20260419T164927Z
DTSTART:20260417T090000
DTEND:20260417T120000
SUMMARY:IHK-Beratungssprechtag Marketing
DESCRIPTION:
URL:https://gruender-mv.de/events/ihk-beratungssprechtag-marketing-4/
END:VEVENT
END:VCALENDAR
