BEGIN:VCALENDAR
VERSION:2.0
PRODID:-//gruender-mv.de//EN
BEGIN:VEVENT
UID:69e61b08c2795@gruender-mv.de
DTSTAMP:20260420T122440Z
DTSTART:20260417T100000
DTEND:20260417T130000
SUMMARY:IHK-Beratungssprechtag Social Media 
DESCRIPTION:
URL:https://gruender-mv.de/events/ihk-beratungssprechtag-social-media-6/
END:VEVENT
END:VCALENDAR
