BEGIN:VCALENDAR
VERSION:2.0
PRODID:-//gruender-mv.de//EN
BEGIN:VEVENT
UID:69e61b128ac2c@gruender-mv.de
DTSTAMP:20260420T122450Z
DTSTART:20260303T091500
DTEND:20260303T151500
SUMMARY:Beratungstag Versicherung der IHK Rostock
DESCRIPTION:
URL:https://gruender-mv.de/events/beratungstag-versicherung-der-ihk-rostock-6/
END:VEVENT
END:VCALENDAR
