BEGIN:VCALENDAR
VERSION:2.0
PRODID:-//gruender-mv.de//EN
BEGIN:VEVENT
UID:69e4da816fcbd@gruender-mv.de
DTSTAMP:20260419T133705Z
DTSTART:20260310T091500
DTEND:20260310T151500
SUMMARY:Beratungstag Finanzierung 
DESCRIPTION:
URL:https://gruender-mv.de/events/beratungstag-finanzierung-16/
END:VEVENT
END:VCALENDAR
