BEGIN:VCALENDAR
VERSION:2.0
PRODID:-//gruender-mv.de//EN
BEGIN:VEVENT
UID:69e4da460a244@gruender-mv.de
DTSTAMP:20260419T133606Z
DTSTART:20260311T090000
DTEND:20260311T120000
SUMMARY:Sprechtag zum Thema Marken, Patente und andere gewerbliche Schutzrechte
DESCRIPTION:
URL:https://gruender-mv.de/events/sprechtag-zum-thema-marken-patente-und-andere-gewerbliche-schutzrechte-6/
END:VEVENT
END:VCALENDAR
