BEGIN:VCALENDAR
VERSION:2.0
PRODID:-//gruender-mv.de//EN
BEGIN:VEVENT
UID:69e61b02d2659@gruender-mv.de
DTSTAMP:20260420T122434Z
DTSTART:20260324T090000
DTEND:20260324T160000
SUMMARY:Beratungstag Unternehmensnachfolge der IHK Rostock
DESCRIPTION:
URL:https://gruender-mv.de/events/beratungstag-unternehmensnachfolge-der-ihk-rostock-5/
END:VEVENT
END:VCALENDAR
