BEGIN:VCALENDAR
VERSION:2.0
PRODID:-//gruender-mv.de//EN
BEGIN:VEVENT
UID:69e61b3a07ddc@gruender-mv.de
DTSTAMP:20260420T122530Z
DTSTART:20260326T140000
DTEND:20260326T180000
SUMMARY:Speed-Dating in der IHK zu Rostock 
DESCRIPTION:
URL:https://gruender-mv.de/events/speed-dating-in-der-ihk-zu-rostock/
END:VEVENT
END:VCALENDAR
