BEGIN:VCALENDAR
VERSION:2.0
PRODID:-//gruender-mv.de//EN
BEGIN:VEVENT
UID:69e619dd7aeeb@gruender-mv.de
DTSTAMP:20260420T121941Z
DTSTART:20260420T130000
DTEND:20260420T140000
SUMMARY:Unternehmerstammtisch - Fachkräfte-Service-Zentrale M-V
DESCRIPTION:
URL:https://gruender-mv.de/events/unternehmerstammtisch-fachkraefte-service-zentrale-m-v-2/
END:VEVENT
END:VCALENDAR
