BEGIN:VCALENDAR
VERSION:2.0
PRODID:-//gruender-mv.de//EN
BEGIN:VEVENT
UID:69e61b078e077@gruender-mv.de
DTSTAMP:20260420T122439Z
DTSTART:20260407T091500
DTEND:20260407T151500
SUMMARY:Beratungstag Versicherung der IHK Rostock
DESCRIPTION:
URL:https://gruender-mv.de/events/beratungstag-versicherung-der-ihk-rostock-7/
END:VEVENT
END:VCALENDAR
