BEGIN:VCALENDAR
VERSION:2.0
PRODID:-//gruender-mv.de//EN
BEGIN:VEVENT
UID:69e61883582bc@gruender-mv.de
DTSTAMP:20260420T121355Z
DTSTART:20260414T091500
DTEND:20260414T151500
SUMMARY:Beratungstag Finanzierung der IHK Rostock
DESCRIPTION:
URL:https://gruender-mv.de/events/beratungstag-finanzierung-der-ihk-rostock/
END:VEVENT
END:VCALENDAR
