BEGIN:VCALENDAR
VERSION:2.0
PRODID:-//gruender-mv.de//EN
BEGIN:VEVENT
UID:69e4d91c6c047@gruender-mv.de
DTSTAMP:20260419T133108Z
DTSTART:20260416T150000
DTEND:20260416T170000
SUMMARY:IHK im BiZ: Existenzgründung aus Sicht des Finanzamtes
DESCRIPTION:
URL:https://gruender-mv.de/events/ihk-im-biz-existenzgruendung-aus-sicht-des-finanzamtes-6/
END:VEVENT
END:VCALENDAR
