BEGIN:VCALENDAR
VERSION:2.0
PRODID:-//gruender-mv.de//EN
BEGIN:VEVENT
UID:69e4d9e07fa1f@gruender-mv.de
DTSTAMP:20260419T133424Z
DTSTART:20260428T090000
DTEND:20260428T160000
SUMMARY:Beratungstag Unternehmensnachfolge 
DESCRIPTION:
URL:https://gruender-mv.de/events/beratungstag-unternehmensnachfolge-14/
END:VEVENT
END:VCALENDAR
