BEGIN:VCALENDAR
VERSION:2.0
PRODID:-//gruender-mv.de//EN
BEGIN:VEVENT
UID:69e4d7e0a3f18@gruender-mv.de
DTSTAMP:20260419T132552Z
DTSTART:20260401T090000
DTEND:20260401T160000
SUMMARY:Finanzierungssprechtag April 2026
DESCRIPTION:
URL:https://gruender-mv.de/events/finanzierungssprechtag-april-2026/
END:VEVENT
END:VCALENDAR
