BEGIN:VCALENDAR
VERSION:2.0
PRODID:-//gruender-mv.de//EN
BEGIN:VEVENT
UID:69e4d980ad734@gruender-mv.de
DTSTAMP:20260419T133248Z
DTSTART:20260402T090000
DTEND:20260402T160000
SUMMARY:Finanzierungssprechtag Greifswald April 2026
DESCRIPTION:
URL:https://gruender-mv.de/events/finanzierungssprechtag-greifswald-april-2026/
END:VEVENT
END:VCALENDAR
