BEGIN:VCALENDAR
VERSION:2.0
PRODID:-//gruender-mv.de//EN
BEGIN:VEVENT
UID:69e619d1ad1c1@gruender-mv.de
DTSTAMP:20260420T121929Z
DTSTART:20260408T100000
DTEND:20260408T160000
SUMMARY:Sprechtag Unternehmensnachfolge April 2026 Neubrandenburg
DESCRIPTION:
URL:https://gruender-mv.de/events/sprechtag-unternehmensnachfolge-april-2026-neubrandenburg/
END:VEVENT
END:VCALENDAR
