BEGIN:VCALENDAR
VERSION:2.0
PRODID:-//gruender-mv.de//EN
BEGIN:VEVENT
UID:69e4dac659a03@gruender-mv.de
DTSTAMP:20260419T133814Z
DTSTART:20260414T100000
DTEND:20260414T160000
SUMMARY:Sprechtag Digitalisierung/Internetnutzung April 2026 
DESCRIPTION:
URL:https://gruender-mv.de/events/sprechtag-digitalisierung-internetnutzung-april-2026/
END:VEVENT
END:VCALENDAR
