BEGIN:VCALENDAR
VERSION:2.0
PRODID:-//gruender-mv.de//EN
BEGIN:VEVENT
UID:69e61a0384e1e@gruender-mv.de
DTSTAMP:20260420T122019Z
DTSTART:20260415T100000
DTEND:20260415T120000
SUMMARY:IHK-Innovationssprechtag April 2026
DESCRIPTION:
URL:https://gruender-mv.de/events/ihk-innovationssprechtag-april-2026/
END:VEVENT
END:VCALENDAR
