BEGIN:VCALENDAR
VERSION:2.0
PRODID:-//gruender-mv.de//EN
BEGIN:VEVENT
UID:69e4dac983f23@gruender-mv.de
DTSTAMP:20260419T133817Z
DTSTART:20260423T083000
DTEND:20260423T160000
SUMMARY:Seminar Existenzgründung/Unternehmensführung - April 2026
DESCRIPTION:
URL:https://gruender-mv.de/events/seminar-existenzgruendung-unternehmensfuehrung-april-2026/
END:VEVENT
END:VCALENDAR
