BEGIN:VCALENDAR
VERSION:2.0
PRODID:-//gruender-mv.de//EN
BEGIN:VEVENT
UID:69e4d891814c9@gruender-mv.de
DTSTAMP:20260419T132849Z
DTSTART:20260310T160000
DTEND:20260310T170000
SUMMARY: Altersvorsorge und Mitarbeiterbindung für Geschäftsführende
DESCRIPTION:
URL:https://gruender-mv.de/events/altersvorsorge-und-mitarbeiterbindung-fuer-geschaeftsfuehrende/
END:VEVENT
END:VCALENDAR
