BEGIN:VCALENDAR
VERSION:2.0
PRODID:-//gruender-mv.de//EN
BEGIN:VEVENT
UID:69e4d91d8cee0@gruender-mv.de
DTSTAMP:20260419T133109Z
DTSTART:20260306T100000
DTEND:20260306T120000
SUMMARY:Digtal.Land -Social Media – Grundlagen und Strategien für Einsteiger
DESCRIPTION:
URL:https://gruender-mv.de/events/digtal-land-social-media-grundlagen-und-strategien-fuer-einsteiger-3/
END:VEVENT
END:VCALENDAR
