BEGIN:VCALENDAR
VERSION:2.0
PRODID:-//gruender-mv.de//EN
BEGIN:VEVENT
UID:69e61a027c74f@gruender-mv.de
DTSTAMP:20260420T122018Z
DTSTART:20260310T100000
DTEND:20260310T133000
SUMMARY:D!G!TALTALK-Die Unternehmersprechstunde in Wolgast
DESCRIPTION:
URL:https://gruender-mv.de/events/dgtaltalk-die-unternehmersprechstunde-in-wolgast/
END:VEVENT
END:VCALENDAR
