BEGIN:VCALENDAR
VERSION:2.0
PRODID:-//gruender-mv.de//EN
BEGIN:VEVENT
UID:69e4d9e19b965@gruender-mv.de
DTSTAMP:20260419T133425Z
DTSTART:20260310T170000
DTEND:20260310T190000
SUMMARY:Google My Business &amp; Online-Sichtbarkeit verbessern
DESCRIPTION:
URL:https://gruender-mv.de/events/google-my-business-online-sichtbarkeit-verbessern-3/
END:VEVENT
END:VCALENDAR
