BEGIN:VCALENDAR
VERSION:2.0
PRODID:-//gruender-mv.de//EN
BEGIN:VEVENT
UID:69e61a041dc9b@gruender-mv.de
DTSTAMP:20260420T122020Z
DTSTART:20260311T095000
DTEND:20260311T120000
SUMMARY:10 vor 10 –  der (Digitalisierungs)- Stammtisch
DESCRIPTION:
URL:https://gruender-mv.de/events/10-vor-10-der-digitalisierungs-stammtisch/
END:VEVENT
END:VCALENDAR
