BEGIN:VCALENDAR
VERSION:2.0
PRODID:-//gruender-mv.de//EN
BEGIN:VEVENT
UID:69e61a0272335@gruender-mv.de
DTSTAMP:20260420T122018Z
DTSTART:20260312T100000
DTEND:20260312T133000
SUMMARY:D!G!TALTALK-Die Unternehmersprechstunde in Ueckermünde
DESCRIPTION:
URL:https://gruender-mv.de/events/dgtaltalk-die-unternehmersprechstunde-in-ueckermuende/
END:VEVENT
END:VCALENDAR
