BEGIN:VCALENDAR
VERSION:2.0
PRODID:-//gruender-mv.de//EN
BEGIN:VEVENT
UID:69e4d88cb02d6@gruender-mv.de
DTSTAMP:20260419T132844Z
DTSTART:20260326T100000
DTEND:20260326T133000
SUMMARY:D!G!TALTALK-Die Unternehmersprechstunde in Karlshagen
DESCRIPTION:
URL:https://gruender-mv.de/events/dgtaltalk-die-unternehmersprechstunde-in-karlshagen-2/
END:VEVENT
END:VCALENDAR
