BEGIN:VCALENDAR
VERSION:2.0
PRODID:-//gruender-mv.de//EN
BEGIN:VEVENT
UID:69e6191ebe73a@gruender-mv.de
DTSTAMP:20260420T121630Z
DTSTART:20260409T120000
DTEND:20260409T150000
SUMMARY:SOCIAL Lunch - Vernetzung, Social Media &amp; Lunchpause
DESCRIPTION:
URL:https://gruender-mv.de/events/social-lunch-vernetzung-social-media-lunchpause/
END:VEVENT
END:VCALENDAR
