BEGIN:VCALENDAR
VERSION:2.0
PRODID:-//gruender-mv.de//EN
BEGIN:VEVENT
UID:69e647bf2d7e8@gruender-mv.de
DTSTAMP:20260420T153527Z
DTSTART:20260414T100000
DTEND:20260414T133000
SUMMARY:D!G!TALTALK-Die Unternehmersprechstunde in Wolgast
DESCRIPTION:
URL:https://gruender-mv.de/events/dgtaltalk-die-unternehmersprechstunde-in-wolgast-2/
END:VEVENT
END:VCALENDAR
