BEGIN:VCALENDAR
VERSION:2.0
PRODID:-//gruender-mv.de//EN
BEGIN:VEVENT
UID:69e5073216b84@gruender-mv.de
DTSTAMP:20260419T164746Z
DTSTART:20260416T090000
DTEND:20260416T123000
SUMMARY:DigitalTalk - Die Unternehmersprechstunde in Jarmen
DESCRIPTION:
URL:https://gruender-mv.de/events/digitaltalk-die-unternehmersprechstunde-in-jarmen/
END:VEVENT
END:VCALENDAR
