BEGIN:VCALENDAR
VERSION:2.0
PRODID:-//gruender-mv.de//EN
BEGIN:VEVENT
UID:69e6191fe1d65@gruender-mv.de
DTSTAMP:20260420T121631Z
DTSTART:20260423T090000
DTEND:20260423T110000
SUMMARY:Frauenfrühstückstreff #Klock9 im April
DESCRIPTION:
URL:https://gruender-mv.de/events/frauenfruehstueckstreff-klock9-im-april/
END:VEVENT
END:VCALENDAR
