BEGIN:VCALENDAR
VERSION:2.0
PRODID:-//gruender-mv.de//EN
BEGIN:VEVENT
UID:69e618bfa94ff@gruender-mv.de
DTSTAMP:20260420T121455Z
DTSTART:20260309T180000
DTEND:20260309T190000
SUMMARY:Sprechstunde Online-Kommunikation in Rostock
DESCRIPTION:
URL:https://gruender-mv.de/events/sprechstunde-online-kommunikation-in-rostock-2/
END:VEVENT
END:VCALENDAR
