BEGIN:VCALENDAR
VERSION:2.0
PRODID:-//gruender-mv.de//EN
BEGIN:VEVENT
UID:69e4d8928d6f5@gruender-mv.de
DTSTAMP:20260419T132850Z
DTSTART:20260408T110000
DTEND:20260408T120000
SUMMARY:Momentum – GründungsSprechstunde
DESCRIPTION:
URL:https://gruender-mv.de/events/momentum-gruendungssprechstunde-4/
END:VEVENT
END:VCALENDAR
