BEGIN:VCALENDAR
VERSION:2.0
PRODID:-//gruender-mv.de//EN
BEGIN:VEVENT
UID:69e619d181cca@gruender-mv.de
DTSTAMP:20260420T121929Z
DTSTART:20260326T180000
DTEND:20260326T193000
SUMMARY:Posting Power Hour #5 – gemeinsam posten, planen, dranbleiben
DESCRIPTION:
URL:https://gruender-mv.de/events/posting-power-hour-5-gemeinsam-posten-planen-dranbleiben/
END:VEVENT
END:VCALENDAR
