BEGIN:VCALENDAR
VERSION:2.0
PRODID:-//gruender-mv.de//EN
BEGIN:VEVENT
UID:69e4d91cbd718@gruender-mv.de
DTSTAMP:20260419T133108Z
DTSTART:20260318T120000
DTEND:20260318T130000
SUMMARY:SNACK IT: Work Smart – erstelle Content mit System
DESCRIPTION:
URL:https://gruender-mv.de/events/snack-it-work-smart-erstelle-content-mit-system/
END:VEVENT
END:VCALENDAR
