BEGIN:VCALENDAR
VERSION:2.0
PRODID:-//gruender-mv.de//EN
BEGIN:VEVENT
UID:69e4d91d1eb94@gruender-mv.de
DTSTAMP:20260419T133109Z
DTSTART:20260414T100000
DTEND:20260414T110000
SUMMARY:Lerne uns kennen! Infostunde für Gründungsinteressierte &amp; Start-ups
DESCRIPTION:
URL:https://gruender-mv.de/events/lerne-uns-kennen-infostunde-fuer-gruendungsinteressierte-start-ups/
END:VEVENT
END:VCALENDAR
