BEGIN:VCALENDAR
VERSION:2.0
PRODID:-//gruender-mv.de//EN
BEGIN:VEVENT
UID:69e6191ea321c@gruender-mv.de
DTSTAMP:20260420T121630Z
DTSTART:20260429T170000
DTEND:20260429T210000
SUMMARY:Nerd-Night im InnovationPort Wismar
DESCRIPTION:
URL:https://gruender-mv.de/events/nerd-night-im-innovationport-wismar/
END:VEVENT
END:VCALENDAR
