BEGIN:VCALENDAR
VERSION:2.0
PRODID:-//gruender-mv.de//EN
BEGIN:VEVENT
UID:69e618c039943@gruender-mv.de
DTSTAMP:20260420T121456Z
DTSTART:20260429T180000
DTEND:20260429T200000
SUMMARY:Mit dem Modul „Finanzplan als Controllinginstrument“ die Zahlen im Griff
DESCRIPTION:
URL:https://gruender-mv.de/events/mit-dem-modul-finanzplan-als-controllinginstrument-die-zahlen-im-griff/
END:VEVENT
END:VCALENDAR
