BEGIN:VCALENDAR
VERSION:2.0
PRODID:-//gruender-mv.de//EN
BEGIN:VEVENT
UID:69e507975d06c@gruender-mv.de
DTSTAMP:20260419T164927Z
DTSTART:20260413T100000
DTEND:20260413T120000
SUMMARY:digital.Land - Grafikdesign mit Canva / Fotos für mein Business – Große Wirkung mit einfachen Mitteln
DESCRIPTION:
URL:https://gruender-mv.de/events/digital-land-grafikdesign-mit-canva-fotos-fuer-mein-business-grosse-wirkung-mit-einfachen-mitteln-3/
END:VEVENT
END:VCALENDAR
