BEGIN:VCALENDAR
VERSION:2.0
PRODID:-//gruender-mv.de//EN
BEGIN:VEVENT
UID:69e4d983e48f7@gruender-mv.de
DTSTAMP:20260419T133251Z
DTSTART:20260317T191200
DTEND:20260317T201200
SUMMARY:12MIN.ME Rostock
DESCRIPTION:
URL:https://gruender-mv.de/events/12min-me-rostock/
END:VEVENT
END:VCALENDAR
