BEGIN:VCALENDAR
VERSION:2.0
PRODID:-//gruender-mv.de//EN
BEGIN:VEVENT
UID:69e4d8930cfc5@gruender-mv.de
DTSTAMP:20260419T132851Z
DTSTART:20260305T180000
DTEND:20260305T230000
SUMMARY:13. Stammtisch Schwerin
DESCRIPTION:
URL:https://gruender-mv.de/events/13-stammtisch-schwerin/
END:VEVENT
END:VCALENDAR
