BEGIN:VCALENDAR
VERSION:2.0
PRODID:-//gruender-mv.de//EN
BEGIN:VEVENT
UID:69e4d88e1285d@gruender-mv.de
DTSTAMP:20260419T132846Z
DTSTART:20260421T130000
DTEND:20260421T160000
SUMMARY:Social Media Strategie im Turbo-Modus
DESCRIPTION:
URL:https://gruender-mv.de/events/social-media-strategie-im-turbo-modus/
END:VEVENT
END:VCALENDAR
