BEGIN:VCALENDAR
VERSION:2.0
PRODID:-//gruender-mv.de//EN
BEGIN:VEVENT
UID:69e4d903588b7@gruender-mv.de
DTSTAMP:20260419T133043Z
DTSTART:20260401T090000
DTEND:20260401T110000
SUMMARY:Social Media Café im DIZ Neubrandenburg
DESCRIPTION:
URL:https://gruender-mv.de/events/social-media-cafe-im-diz-neubrandenburg-5/
END:VEVENT
END:VCALENDAR
