BEGIN:VCALENDAR
VERSION:2.0
PRODID:-//gruender-mv.de//EN
BEGIN:VEVENT
UID:69e546595fd2d@gruender-mv.de
DTSTAMP:20260419T211713Z
DTSTART:20260520T140000
DTEND:20260520T150000
SUMMARY:Digital.Kompetenz – Barrierefreie Webseiten
DESCRIPTION:
URL:https://gruender-mv.de/events/digital-kompetenz-barrierefreie-webseiten/
END:VEVENT
END:VCALENDAR
