BEGIN:VCALENDAR
VERSION:2.0
PRODID:-//gruender-mv.de//EN
BEGIN:VEVENT
UID:69e61884b8206@gruender-mv.de
DTSTAMP:20260420T121356Z
DTSTART:20230303T100000
DTEND:19700101T010000
SUMMARY:StartUp-Wochenende
DESCRIPTION:
URL:https://gruender-mv.de/events/startup-wochenende-2/
END:VEVENT
END:VCALENDAR
