BEGIN:VCALENDAR
VERSION:2.0
PRODID:-//gruender-mv.de//EN
BEGIN:VEVENT
UID:69e54653b365a@gruender-mv.de
DTSTAMP:20260419T211707Z
DTSTART:20260521T090000
DTEND:20260521T123000
SUMMARY:DigitalTalk - Die Unternehmersprechstunde in Jarmen
DESCRIPTION:
URL:https://gruender-mv.de/events/digitaltalk-die-unternehmersprechstunde-in-jarmen-2/
END:VEVENT
END:VCALENDAR
