BEGIN:VCALENDAR
VERSION:2.0
PRODID:-//gruender-mv.de//EN
BEGIN:VEVENT
UID:69e545c48c8af@gruender-mv.de
DTSTAMP:20260419T211444Z
DTSTART:20260520T170000
DTEND:20260520T200000
SUMMARY:Webseiten-Werkstatt im InnovationPort Wismar
DESCRIPTION:
URL:https://gruender-mv.de/events/webseiten-werkstatt-im-innovationport-wismar-3/
END:VEVENT
END:VCALENDAR
