BEGIN:VCALENDAR
VERSION:2.0
PRODID:-//gruender-mv.de//EN
BEGIN:VEVENT
UID:69e545cb67211@gruender-mv.de
DTSTAMP:20260419T211451Z
DTSTART:20260527T110000
DTEND:20260528T160000
SUMMARY:NØRD 2026 - digital convention
DESCRIPTION:
URL:https://gruender-mv.de/events/nord-2026-digital-convention/
END:VEVENT
END:VCALENDAR
