BEGIN:VCALENDAR
VERSION:2.0
PRODID:-//gruender-mv.de//EN
BEGIN:VEVENT
UID:69e546eacfd2f@gruender-mv.de
DTSTAMP:20260419T211938Z
DTSTART:20260808T120000
DTEND:20260808T173000
SUMMARY:Sommerfest der Gründungswerft
DESCRIPTION:
URL:https://gruender-mv.de/events/sommerfest-der-gruendungswerft/
END:VEVENT
END:VCALENDAR
